BEGIN:VCALENDAR
VERSION:2.0
PRODID:-//ChamberMaster//Event Calendar 2.0//EN
METHOD:PUBLISH
X-PUBLISHED-TTL:P3D
REFRESH-INTERVAL:P3D
CALSCALE:GREGORIAN
BEGIN:VEVENT
DTSTART:20200325T230000Z
DTEND:20200326T010000Z
X-MICROSOFT-CDO-ALLDAYEVENT:FALSE
SUMMARY:POSTPONED: Chamber Mixer at Billy Baroo's
DESCRIPTION:*In accordance with King County Public Health guidelines\, this event has been postponed*\n\n\n\nJoin the Seattle Southside business community for networking and fun.\n\n\n\nThis month's mixer will be focused on Young Professionals at Billy Baroo's Bar & Grill in Tukwila.\n\n\n\nStay tuned for more details. We hope to see you there!
X-ALT-DESC;FMTTYPE=text/html:<strong>*In accordance with King County Public Health guidelines\, this event has been postponed*</strong><br />\n<br />\nJoin the Seattle Southside business community for networking and fun.<br />\n<br />\nThis month&#39\;s mixer will be focused on<strong> Young Professionals </strong>at Billy Baroo&#39\;s Bar &amp\; Grill in Tukwila.<br />\n<br />\nStay tuned for more details. We hope to see you there!
LOCATION:Billy Baroo's Bar & Grill 13500 Interurban Ave S\, Tukwila\, WA 98168
UID:e.2591.3727
SEQUENCE:3
DTSTAMP:20260423T151708Z
URL:https://www.seattlesouthsidechamber.com/events/details/postponed-chamber-mixer-at-billy-baroo-s-3727
END:VEVENT

END:VCALENDAR
