BEGIN:VCALENDAR
VERSION:2.0
PRODID:-//ChamberMaster//Event Calendar 2.0//EN
METHOD:PUBLISH
X-PUBLISHED-TTL:P3D
REFRESH-INTERVAL:P3D
CALSCALE:GREGORIAN
BEGIN:VEVENT
DTSTART:20200806T170000Z
DTEND:20200806T230000Z
X-MICROSOFT-CDO-ALLDAYEVENT:FALSE
SUMMARY:Health Insurance Enrollment Fair
DESCRIPTION:Join Public Health-Seattle & King County and Port Jobs at this Health Insurance Enrollment Fair for airport workers\, former airport workers\, their families\, and airport communities.\n\n\n\nYou can:\n\n	Get free in-person assistance to help you enroll in an affordable health insurance plan\n	Talk with certified Navigators who speak multiple languages including Spanish\, Amharic\, etc.\n	Get your health insurance questions answered\n	See if you qualify for ORCA LIFT and save money on your bus fare ($10 pre-loaded if you qualify)\n\n\n\nMASKS & SAFE DISTANCING REQUIRED\n\nIf you do not have a mask\, one will be provided to you
X-ALT-DESC;FMTTYPE=text/html:Join Public Health-Seattle &amp\; King County and Port Jobs at this Health Insurance Enrollment Fair for airport workers\, former airport workers\, their families\, and airport communities.<br />\n<br />\nYou can:\n<ul>\n	<li>Get free in-person assistance to help you enroll in an affordable health insurance plan</li>\n	<li>Talk with certified Navigators who speak multiple languages including Spanish\, Amharic\, etc.</li>\n	<li>Get your health insurance questions answered</li>\n	<li>See if you qualify for ORCA LIFT and save money on your bus fare ($10 pre-loaded if you qualify)</li>\n</ul>\n<br />\nMASKS &amp\; SAFE DISTANCING REQUIRED<br />\nIf you do not have a mask\, one will be provided to you
LOCATION:Airport Jobs Office SeaTac Airport\, Mezzanine level\, Room 6626
UID:e.2591.4120
SEQUENCE:3
DTSTAMP:20260424T213304Z
URL:https://www.seattlesouthsidechamber.com/events/details/health-insurance-enrollment-fair-4120
END:VEVENT

END:VCALENDAR
