BEGIN:VCALENDAR
VERSION:2.0
PRODID:-//ChamberMaster//Event Calendar 2.0//EN
METHOD:PUBLISH
X-PUBLISHED-TTL:P3D
REFRESH-INTERVAL:P3D
CALSCALE:GREGORIAN
BEGIN:VEVENT
DTSTART:20200816T033000Z
DTEND:20200816T064500Z
X-MICROSOFT-CDO-ALLDAYEVENT:FALSE
SUMMARY:Discover Burien Drive-In Theater
DESCRIPTION:Discover Burien is proud to announce the full line-up of outdoor cinema for the community to enjoy right here in our own backyard.     Using touchless pre-registration\, online payment options\, concessions ordering\, and audio tuned right into each car\, Discover Burien is dedicated to the safety of our patrons and guests as we navigate a truly interesting time in our community. \n\n\n\nThe Discover Burien  Drive-In Movie Series is sponsored by Burien Toyota\, Umpqua Bank\, and Burien  Chevrolet. A huge thank you to our lot sponsors The Barber Shop - Danny  Chung\, Hansmire Builders - Stefan Hansmire\, Angelo's Restaurant\, and Hawthorne & Co\, CPAs!\n\n\n\nFriday\, July 31\, 2020   A Beautiful Day in the Neighborhood\n\nSaturday\, August 1\, 2020   Footloose\n\nFriday\, August 7\, 2020   Sleepless in Seattle\n\nSaturday\, August 8\, 2020   Jurassic Park\n\nFriday\, August 14\, 2020   A League of Their Own \n\nSaturday\, August 15\, 2020   Charlie's Angels \n\nFriday\, August 21\, 2020   La La Land\n\nSaturday\, August 22\, 2020   Men in Black \n\nFriday\, August 28\, 2020   Shrek \n\nSaturday\, August 29\, 2020   MAMMA MIA \n\n\n\n\n\n\n\nThe drive-in theater  opens at 8:30pm for parking and concessions. Movies begin at sundown (or approximately 9:30pm in the summer months). Parking spots are first-come\, first serve with touchless admission and pre-ordering of concessions and other amenities as available.\n\n\n\nProceeds from every movie ticket purchase support Discover Burien\, a nonprofit 501(c)(3). Discover Burien is a service organization dedicated to economic development and community engagement in Burien.
X-ALT-DESC;FMTTYPE=text/html:Discover Burien is proud to announce the full line-up of outdoor cinema for the community to enjoy right here in our own backyard.&nbsp\; &nbsp\; &nbsp\;Using touchless pre-registration\, online payment options\, concessions ordering\, and audio tuned right into each car\, Discover Burien is dedicated to the safety of our patrons and guests as we navigate a truly interesting time in our community.&nbsp\;<br />\n<br />\nThe Discover Burien&nbsp\; Drive-In Movie Series is sponsored by Burien Toyota\, Umpqua Bank\, and Burien&nbsp\; Chevrolet. A huge thank you to our lot sponsors The Barber Shop - Danny&nbsp\; Chung\, Hansmire Builders - Stefan Hansmire\, Angelo&#39\;s Restaurant\, and Hawthorne &amp\; Co\, CPAs!<br />\n<br />\nFriday\, July 31\, 2020 &ndash\; A Beautiful Day in the Neighborhood<br />\nSaturday\, August 1\, 2020 &ndash\; Footloose<br />\nFriday\, August 7\, 2020 &ndash\; Sleepless in Seattle<br />\nSaturday\, August 8\, 2020 &ndash\; Jurassic Park<br />\nFriday\, August 14\, 2020 &ndash\; A League of Their Own&nbsp\;<br />\nSaturday\, August 15\, 2020 &ndash\; Charlie&rsquo\;s Angels&nbsp\;<br />\nFriday\, August 21\, 2020 &ndash\; La La Land<br />\nSaturday\, August 22\, 2020 &ndash\; Men in Black&nbsp\;<br />\nFriday\, August 28\, 2020 &ndash\; Shrek&nbsp\;<br />\nSaturday\, August 29\, 2020 &ndash\; MAMMA MIA&nbsp\;<br />\n<br />\n<br />\n<br />\nThe drive-in theater&nbsp\; opens at 8:30pm for parking and concessions. Movies begin at sundown (or approximately 9:30pm in the summer months). Parking spots are first-come\, first serve with touchless admission and pre-ordering of concessions and other amenities as available.<br />\n<br />\nProceeds from every movie ticket purchase support Discover Burien\, a nonprofit 501(c)(3). Discover Burien is a service organization dedicated to economic development and community engagement in Burien.
LOCATION:Downtown Burien SW 153rd Street between 6th and Ambuam
UID:e.2591.4128
SEQUENCE:3
DTSTAMP:20260424T211755Z
URL:https://www.seattlesouthsidechamber.com/events/details/discover-burien-drive-in-theater-08-15-2020-4128
END:VEVENT

END:VCALENDAR
